BEGIN:VCALENDAR
VERSION:2.0
PRODID:-//Giving Docs - ECPv6.15.16//NONSGML v1.0//EN
CALSCALE:GREGORIAN
METHOD:PUBLISH
X-ORIGINAL-URL:https://about.givingdocs.com
X-WR-CALDESC:Events for Giving Docs
REFRESH-INTERVAL;VALUE=DURATION:PT1H
X-Robots-Tag:noindex
X-PUBLISHED-TTL:PT1H
BEGIN:VTIMEZONE
TZID:UTC
BEGIN:STANDARD
TZOFFSETFROM:+0000
TZOFFSETTO:+0000
TZNAME:UTC
DTSTART:20250101T000000
END:STANDARD
END:VTIMEZONE
BEGIN:VEVENT
DTSTART;TZID=UTC:20260426T080000
DTEND;TZID=UTC:20260428T170000
DTSTAMP:20260424T154608
CREATED:20260407T195631Z
LAST-MODIFIED:20260407T195930Z
UID:912-1777190400-1777395600@about.givingdocs.com
SUMMARY:AFP Icon
DESCRIPTION:
URL:https://about.givingdocs.com/event/afp-icon/
LOCATION:San Diego\, CA
END:VEVENT
BEGIN:VEVENT
DTSTART;TZID=UTC:20260430T080000
DTEND;TZID=UTC:20260430T170000
DTSTAMP:20260424T154608
CREATED:20260407T195744Z
LAST-MODIFIED:20260407T195958Z
UID:914-1777536000-1777568400@about.givingdocs.com
SUMMARY:Northern California Planned Giving Day
DESCRIPTION:
URL:https://about.givingdocs.com/event/northern-california-planned-giving-day/
LOCATION:Millbrae\, CA
END:VEVENT
BEGIN:VEVENT
DTSTART;TZID=UTC:20260506T080000
DTEND;TZID=UTC:20260506T170000
DTSTAMP:20260424T154608
CREATED:20260109T195503Z
LAST-MODIFIED:20260109T195801Z
UID:862-1778054400-1778086800@about.givingdocs.com
SUMMARY:PGGNE Conference
DESCRIPTION:
URL:https://about.givingdocs.com/event/pggne-conference/
LOCATION:Bentley University
END:VEVENT
BEGIN:VEVENT
DTSTART;TZID=UTC:20260511T080000
DTEND;TZID=UTC:20260513T170000
DTSTAMP:20260424T154608
CREATED:20260109T201254Z
LAST-MODIFIED:20260109T201255Z
UID:870-1778486400-1778691600@about.givingdocs.com
SUMMARY:The Carolinas Planned Giving Conference
DESCRIPTION:
URL:https://about.givingdocs.com/event/the-carolinas-planned-giving-conference/
LOCATION:Wilmington\, NC
END:VEVENT
BEGIN:VEVENT
DTSTART;TZID=UTC:20260514T080000
DTEND;TZID=UTC:20260515T170000
DTSTAMP:20260424T154608
CREATED:20260109T201607Z
LAST-MODIFIED:20260109T201608Z
UID:872-1778745600-1778864400@about.givingdocs.com
SUMMARY:Arizona Charitable Gift Planners Conference
DESCRIPTION:
URL:https://about.givingdocs.com/event/arizona-charitable-gift-planners-conference/
LOCATION:Phoenix\, AZ
END:VEVENT
BEGIN:VEVENT
DTSTART;TZID=UTC:20260515T080000
DTEND;TZID=UTC:20260515T170000
DTSTAMP:20260424T154608
CREATED:20260109T200636Z
LAST-MODIFIED:20260109T200637Z
UID:867-1778832000-1778864400@about.givingdocs.com
SUMMARY:PPGGNY Planned Giving Day
DESCRIPTION:
URL:https://about.givingdocs.com/event/ppggny-planned-giving-day/
LOCATION:New York\, NY
END:VEVENT
BEGIN:VEVENT
DTSTART;TZID=UTC:20260518T080000
DTEND;TZID=UTC:20260520T170000
DTSTAMP:20260424T154608
CREATED:20260407T200442Z
LAST-MODIFIED:20260407T200443Z
UID:918-1779091200-1779296400@about.givingdocs.com
SUMMARY:Big 12 Development Conference
DESCRIPTION:
URL:https://about.givingdocs.com/event/big-12-development-conference/
LOCATION:Texas Tech University
END:VEVENT
BEGIN:VEVENT
DTSTART;TZID=UTC:20260520T080000
DTEND;TZID=UTC:20260520T170000
DTSTAMP:20260424T154608
CREATED:20260407T200228Z
LAST-MODIFIED:20260407T200229Z
UID:916-1779264000-1779296400@about.givingdocs.com
SUMMARY:Chicago Council on Planned Giving Annual Symposium
DESCRIPTION:
URL:https://about.givingdocs.com/event/chicago-council-on-planned-giving-annual-symposium/
LOCATION:Chicago\, IL
END:VEVENT
BEGIN:VEVENT
DTSTART;TZID=UTC:20260520T080000
DTEND;TZID=UTC:20260522T170000
DTSTAMP:20260424T154608
CREATED:20260109T202408Z
LAST-MODIFIED:20260109T202409Z
UID:876-1779264000-1779469200@about.givingdocs.com
SUMMARY:SoCal CGP Western Regional Planned Giving Conference
DESCRIPTION:
URL:https://about.givingdocs.com/event/socal-cgp-western-regional-planned-giving-conference/
LOCATION:Costa Mesa\, CA
END:VEVENT
BEGIN:VEVENT
DTSTART;TZID=UTC:20260527T080000
DTEND;TZID=UTC:20260529T170000
DTSTAMP:20260424T154608
CREATED:20260407T200606Z
LAST-MODIFIED:20260407T200607Z
UID:920-1779868800-1780074000@about.givingdocs.com
SUMMARY:Respond (Virtuous User Summit)
DESCRIPTION:
URL:https://about.givingdocs.com/event/respond-virtuous-user-summit/
LOCATION:Dallas\, TX
END:VEVENT
BEGIN:VEVENT
DTSTART;TZID=UTC:20260616T080000
DTEND;TZID=UTC:20260616T170000
DTSTAMP:20260424T154608
CREATED:20260109T202207Z
LAST-MODIFIED:20260109T202208Z
UID:874-1781596800-1781629200@about.givingdocs.com
SUMMARY:National Capital Gift Planning Council Planned Giving Day
DESCRIPTION:
URL:https://about.givingdocs.com/event/national-capital-gift-planning-council-planned-giving-day/
LOCATION:Washington\, DC
END:VEVENT
BEGIN:VEVENT
DTSTART;TZID=UTC:20260708T080000
DTEND;TZID=UTC:20260710T170000
DTSTAMP:20260424T154608
CREATED:20260407T200904Z
LAST-MODIFIED:20260407T200905Z
UID:922-1783497600-1783702800@about.givingdocs.com
SUMMARY:Public Media Growth Conference
DESCRIPTION:
URL:https://about.givingdocs.com/event/public-media-growth-conference/
LOCATION:Chicago\, IL
END:VEVENT
BEGIN:VEVENT
DTSTART;TZID=UTC:20260714T080000
DTEND;TZID=UTC:20260716T170000
DTSTAMP:20260424T154608
CREATED:20260407T201153Z
LAST-MODIFIED:20260407T201154Z
UID:924-1784016000-1784221200@about.givingdocs.com
SUMMARY:Giving Institute Summer Symposium
DESCRIPTION:
URL:https://about.givingdocs.com/event/giving-institute-summer-symposium/
LOCATION:Kansas City\, MO
END:VEVENT
BEGIN:VEVENT
DTSTART;TZID=UTC:20260731T080000
DTEND;TZID=UTC:20260731T170000
DTSTAMP:20260424T154609
CREATED:20260407T201426Z
LAST-MODIFIED:20260407T201427Z
UID:926-1785484800-1785517200@about.givingdocs.com
SUMMARY:Bridge Conference
DESCRIPTION:
URL:https://about.givingdocs.com/event/bridge-conference/
LOCATION:National Harbor\, MD
END:VEVENT
BEGIN:VEVENT
DTSTART;TZID=UTC:20260804T080000
DTEND;TZID=UTC:20260805T170000
DTSTAMP:20260424T154609
CREATED:20260109T202609Z
LAST-MODIFIED:20260109T202611Z
UID:878-1785830400-1785949200@about.givingdocs.com
SUMMARY:Colorado Planned Giving Roundtable Summer Symposium
DESCRIPTION:
URL:https://about.givingdocs.com/event/colorado-planned-giving-roundtable-summer-symposium/
LOCATION:Denver\, CO
END:VEVENT
BEGIN:VEVENT
DTSTART;TZID=UTC:20260929T080000
DTEND;TZID=UTC:20261001T170000
DTSTAMP:20260424T154609
CREATED:20260407T201706Z
LAST-MODIFIED:20260407T201707Z
UID:928-1790668800-1790874000@about.givingdocs.com
SUMMARY:bbcon
DESCRIPTION:
URL:https://about.givingdocs.com/event/bbcon/
LOCATION:Columbus\, OH
END:VEVENT
BEGIN:VEVENT
DTSTART;TZID=UTC:20261009T080000
DTEND;TZID=UTC:20261009T170000
DTSTAMP:20260424T154609
CREATED:20260109T220346Z
LAST-MODIFIED:20260109T220347Z
UID:882-1791532800-1791565200@about.givingdocs.com
SUMMARY:AHP International Conference
DESCRIPTION:
URL:https://about.givingdocs.com/event/ahp-international-conference/
LOCATION:Nashville\, TN
END:VEVENT
BEGIN:VEVENT
DTSTART;TZID=UTC:20261014T080000
DTEND;TZID=UTC:20261016T170000
DTSTAMP:20260424T154609
CREATED:20260109T220222Z
LAST-MODIFIED:20260109T220223Z
UID:880-1791964800-1792170000@about.givingdocs.com
SUMMARY:CGP Conference
DESCRIPTION:
URL:https://about.givingdocs.com/event/cgp-conference/
LOCATION:New Orleans\, LA
END:VEVENT
BEGIN:VEVENT
DTSTART;TZID=UTC:20261201T080000
DTEND;TZID=UTC:20261203T170000
DTSTAMP:20260424T154609
CREATED:20260407T201859Z
LAST-MODIFIED:20260407T201900Z
UID:930-1796112000-1796317200@about.givingdocs.com
SUMMARY:NonProfit Power
DESCRIPTION:
URL:https://about.givingdocs.com/event/nonprofit-power/
LOCATION:Baltimore\, MD
END:VEVENT
END:VCALENDAR